BEGIN:VCALENDAR
VERSION:2.0
PRODID:-//Tukios.com/
BEGIN:VEVENT
UID:01ed00e3-55b2-4aed-9ad4-bc7313ba67f1@www.clausenfuneralhome.com
DTSTAMP:20260425T021609Z
DTSTART:20260501T000000Z
DTEND:20260501T010000Z
SUMMARY:Funeral Service
DESCRIPTION:
URL:https://www.clausenfuneralhome.com/obituaries/louise-zink
LOCATION:Community Church 201 First Street  Naper NE 68755
GEO:42.9624743;-99.0991344
END:VEVENT
END:VCALENDAR