BEGIN:VCALENDAR
VERSION:2.0
PRODID:-//Tukios.com/
BEGIN:VEVENT
UID:494c60fc-4851-4a66-b6e8-bc1aa46d506a@www.clausenfuneralhome.com
DTSTAMP:20260425T022053Z
DTSTART:20260430T230000Z
DTEND:20260501T000000Z
SUMMARY:Visitation
DESCRIPTION:
URL:https://www.clausenfuneralhome.com/obituaries/louise-zink
LOCATION:Community Church 201 First Street  Naper NE 68755
GEO:42.9624743;-99.0991344
END:VEVENT
END:VCALENDAR